BEGIN:VCALENDAR
VERSION:2.0
PRODID:-//Gesangverein Eintracht Tamm 1873 e.V. - ECPv5.0.1//NONSGML v1.0//EN
CALSCALE:GREGORIAN
METHOD:PUBLISH
X-WR-CALNAME:Gesangverein Eintracht Tamm 1873 e.V.
X-ORIGINAL-URL:https://www.gesangverein-tamm.de
X-WR-CALDESC:Veranstaltungen für Gesangverein Eintracht Tamm 1873 e.V.
BEGIN:VTIMEZONE
TZID:Europe/Berlin
BEGIN:DAYLIGHT
TZOFFSETFROM:+0100
TZOFFSETTO:+0200
TZNAME:CEST
DTSTART:20250330T010000
END:DAYLIGHT
BEGIN:STANDARD
TZOFFSETFROM:+0200
TZOFFSETTO:+0100
TZNAME:CET
DTSTART:20251026T010000
END:STANDARD
END:VTIMEZONE
BEGIN:VEVENT
DTSTART;TZID=Europe/Berlin:20250405T190000
DTEND;TZID=Europe/Berlin:20250405T220000
DTSTAMP:20260419T125305
CREATED:20250309T193853Z
LAST-MODIFIED:20250309T193915Z
UID:1671-1743879600-1743890400@www.gesangverein-tamm.de
SUMMARY:Chorkonzert Rund um den Asperg
DESCRIPTION:Chorkonzert „Rund um den Asperg“ – Wir sind zurück \nNach einer Pause ist es endlich wieder so weit. Der Chor Asperger Töne aus Asperg veranstaltet\, gemeinsam mit unseren Young Voices aus Tamm und Vocal Mix Möglingen ein großes Chorkonzert ein. \nAuf dem Programm stehen Rock\, Pop und Musical – ein Abend voller mitreißender Musik. \nTickets können Sie für 14 EUR an der Abendkasse kaufen oder schon im Vorverkauf online für 12 EUR über Eventfrog: \nChorkonzert „Rund um den Asperg“ in Asperg | Chor Konzerte (eventfrog.de) \n
URL:https://www.gesangverein-tamm.de/event/chorkonzert-rund-um-den-asperg/
LOCATION:Stadthalle Asperg
ATTACH;FMTTYPE=image/jpeg:https://www.gesangverein-tamm.de/wp-content/uploads/2025/03/1000302367.jpg
END:VEVENT
END:VCALENDAR