BEGIN:VCALENDAR
VERSION:2.0
PRODID:-//Gesangverein Eintracht Tamm 1873 e.V. - ECPv5.0.1//NONSGML v1.0//EN
CALSCALE:GREGORIAN
METHOD:PUBLISH
X-WR-CALNAME:Gesangverein Eintracht Tamm 1873 e.V.
X-ORIGINAL-URL:https://www.gesangverein-tamm.de
X-WR-CALDESC:Veranstaltungen für Gesangverein Eintracht Tamm 1873 e.V.
BEGIN:VTIMEZONE
TZID:Europe/Berlin
BEGIN:DAYLIGHT
TZOFFSETFROM:+0100
TZOFFSETTO:+0200
TZNAME:CEST
DTSTART:20250330T010000
END:DAYLIGHT
BEGIN:STANDARD
TZOFFSETFROM:+0200
TZOFFSETTO:+0100
TZNAME:CET
DTSTART:20251026T010000
END:STANDARD
END:VTIMEZONE
BEGIN:VEVENT
DTSTART;TZID=Europe/Berlin:20250726T183000
DTEND;TZID=Europe/Berlin:20250726T235900
DTSTAMP:20260420T084023
CREATED:20250626T165812Z
LAST-MODIFIED:20250629T173817Z
UID:1750-1753554600-1753574340@www.gesangverein-tamm.de
SUMMARY:Helferfest 2025
DESCRIPTION: \n \nHerzliche Einladung zum Helferfest 2025!\nWir laden alle aktiven und fördernden Mitglieder\, aber vor allem auch unsere unentbehrlichen Freunde der Eintracht\, die sich für unseren Verein engagieren\, zu unserem Helferfest ein. Natürlich dürft ihr gerne eure Partner und Kinder mitbringen. \nWir wollen es uns bei einem leckeren Essen wieder gut gehen lassen \nWir treffen uns am Samstag\, 26. Juli 2025 ab 18.30 Uhr in der Scheune von Wilhelm und Jörg Fißler (Fißlerhof). \nWir freuen uns auf gemütliche Stunden und einen schönen Abend mit euch! \nEuer Ausschuss-Team ❤️ \n‼️ Wir möchten Euch wieder bitten\, Teller\, Besteck\, Trink-\, Wein- und Sektgläser von zuhause mitzubringen !! \nUm entsprechend planen zu können\, benötigen wir eine Rückmeldung mit Namen und Teilnehmerzahl bis zum 10.07.2025\, siehe anhängende Anmeldung an Michaela Weiß (bitte in einer Chorprobe abgeben\, einwerfen\, per E-Mail oder whatsapp \n
URL:https://www.gesangverein-tamm.de/event/helferfest-2025/
LOCATION:Fißlerhof Tamm
ATTACH;FMTTYPE=image/jpeg:https://www.gesangverein-tamm.de/wp-content/uploads/2025/06/20240727_203502-scaled.jpg
END:VEVENT
END:VCALENDAR