BEGIN:VCALENDAR
VERSION:2.0
PRODID:-//Gesangverein Eintracht Tamm 1873 e.V. - ECPv5.0.1//NONSGML v1.0//EN
CALSCALE:GREGORIAN
METHOD:PUBLISH
X-WR-CALNAME:Gesangverein Eintracht Tamm 1873 e.V.
X-ORIGINAL-URL:https://www.gesangverein-tamm.de
X-WR-CALDESC:Veranstaltungen für Gesangverein Eintracht Tamm 1873 e.V.
BEGIN:VTIMEZONE
TZID:Europe/Berlin
BEGIN:DAYLIGHT
TZOFFSETFROM:+0100
TZOFFSETTO:+0200
TZNAME:CEST
DTSTART:20260329T010000
END:DAYLIGHT
BEGIN:STANDARD
TZOFFSETFROM:+0200
TZOFFSETTO:+0100
TZNAME:CET
DTSTART:20261025T010000
END:STANDARD
END:VTIMEZONE
BEGIN:VEVENT
DTSTART;TZID=Europe/Berlin:20260307T190000
DTEND;TZID=Europe/Berlin:20260307T220000
DTSTAMP:20260419T134346
CREATED:20241103T131746Z
LAST-MODIFIED:20260208T130523Z
UID:1595-1772910000-1772920800@www.gesangverein-tamm.de
SUMMARY:Jahresfeier 2026
DESCRIPTION:Wann?             Am Samstag\, 7. März 2026\nEinlass ab:     18 Uhr\nBeginn:           19 Uhr\nWo?                  Bürgersaal Tamm\n​Was?                Bella Musica und die Young Voices + unser Männerquartett;\nmit Chorleiter Manfred Frank und Bastian Weber am Flügel\nSpecial:           Unsere Theatergruppe\nKarten:            Nur Abendkasse\, Erwachsene 15 EUR\, Jugendliche 14-18 J. 12 EUR\, Kinder bis 14 J. frei \nUnsere Theatergruppe sorgt nach viel Gesang mit dem kurzen\, schwäbischen Schwank „A recht vitaler Pflegefall“ noch für Gaudi: \nGeldsorgen bringen das Ehepaar Pfannenstiel auf die Idee mit Opas Pflegeversicherung das Haushaltsbudget aufzubessern. Dumm nur\, dass sich der rüstige Rentner auf Freiersfüßen bewegt und eine Partnervermittlung eingeschalten hat.\nDennoch möchte Opa der Familie helfen und willigt ein\, vor der Mitarbeiterin der Pflegeversicherung den Gebrechlichen zu spielen.\nSachbearbeiterin Pflegeversicherung- Anwärterin der Partnervermittlung\, – das Chaos ist vorprogrammiert. \nKommt vorbei\, schnappt euch ein Kaltgetränk\, ein Leberkäs-Weggle\, Saitenwürschtle mit Weggle oder Käselaugenstange und genießt einfach den Sound vieler Stimmen. \n  \nWir freuen uns riesig auf euch! \n\nhttps://www.gesangverein-tamm.de/wp-content/uploads/2026/02/VID-20260122-WA0055.mp4\n
URL:https://www.gesangverein-tamm.de/event/jahresfeier-3/
LOCATION:Bürgersaal Tamm\, Hauptstraße 100\, Tamm\, 71732
ATTACH;FMTTYPE=image/jpeg:https://www.gesangverein-tamm.de/wp-content/uploads/2024/11/WEB_GVE_JF-2026_Plakat.jpg
END:VEVENT
END:VCALENDAR