BEGIN:VCALENDAR
VERSION:2.0
PRODID:-//Gesangverein Eintracht Tamm 1873 e.V. - ECPv5.0.1//NONSGML v1.0//EN
CALSCALE:GREGORIAN
METHOD:PUBLISH
X-WR-CALNAME:Gesangverein Eintracht Tamm 1873 e.V.
X-ORIGINAL-URL:https://www.gesangverein-tamm.de
X-WR-CALDESC:Veranstaltungen für Gesangverein Eintracht Tamm 1873 e.V.
BEGIN:VTIMEZONE
TZID:Europe/Berlin
BEGIN:DAYLIGHT
TZOFFSETFROM:+0100
TZOFFSETTO:+0200
TZNAME:CEST
DTSTART:20250330T010000
END:DAYLIGHT
BEGIN:STANDARD
TZOFFSETFROM:+0200
TZOFFSETTO:+0100
TZNAME:CET
DTSTART:20251026T010000
END:STANDARD
END:VTIMEZONE
BEGIN:VEVENT
DTSTART;TZID=Europe/Berlin:20250228T190000
DTEND;TZID=Europe/Berlin:20250228T220000
DTSTAMP:20260419T160933
CREATED:20231029T191421Z
LAST-MODIFIED:20250125T190803Z
UID:1305-1740769200-1740780000@www.gesangverein-tamm.de
SUMMARY:Mitgliederversammlung 2025
DESCRIPTION:Einladung zur Mitgliederversammlung 2025\n  \nRückblick und Zukunft des Gesangverein Eintracht Tamm 1873 e.V. sind die Themen der \nMitgliederversammlung am Freitag\, 28. Februar 2025 um 19.30 Uhr\nim Nebenzimmer der VfB Vereinsgaststätte\, Asperger Str. 3 in 71732 Tamm.\nDazu lade ich Sie herzlich ein. \nTagesordnung: \n1. Bericht des 1. Vorsitzenden\n2. Bericht des Chorleiters Manfred Frank\n3. Bericht der Schriftführerin\n4. Bericht der Kassierin und der Kassenprüfer\n5. Entlastungen\n6. Ehrungen\n7. Wahlen\n      – 1. Vorsitzende/r\n      – Schriftführer/in\n      – Vertreter/innen für den Ausschuss\n8. Verschiedenes \nDas Protokoll der Hauptversammlung 2024 wird nicht verlesen\, sondern liegt zur Einsicht auf.\nAnträge zur Tagesordnung sind bis zum 25. Februar 2025 schriftlich beim\n1. Vorsitzenden Stefan Wagner\, Murrhardter Weg 7\, 71732 Tamm einzureichen. \nStärken Sie den Vorstand durch Ihre Teilnahme an der Jahreshauptversammlung. \nAllen\, die mitgeholfen haben\, die Arbeit im vergangenen Jahr zu bewältigen und den Verein\nideell oder auch finanziell unterstützt haben\, gilt der Dank der gesamten Vorstandschaft. \nStefan Wagner\n1. Vorsitzender \n
URL:https://www.gesangverein-tamm.de/event/mitgliederversammlung-2025/
END:VEVENT
END:VCALENDAR