BEGIN:VCALENDAR
VERSION:2.0
PRODID:-//Gesangverein Eintracht Tamm 1873 e.V. - ECPv5.0.1//NONSGML v1.0//EN
CALSCALE:GREGORIAN
METHOD:PUBLISH
X-WR-CALNAME:Gesangverein Eintracht Tamm 1873 e.V.
X-ORIGINAL-URL:https://www.gesangverein-tamm.de
X-WR-CALDESC:Veranstaltungen für Gesangverein Eintracht Tamm 1873 e.V.
BEGIN:VTIMEZONE
TZID:Europe/Berlin
BEGIN:DAYLIGHT
TZOFFSETFROM:+0100
TZOFFSETTO:+0200
TZNAME:CEST
DTSTART:20260329T010000
END:DAYLIGHT
BEGIN:STANDARD
TZOFFSETFROM:+0200
TZOFFSETTO:+0100
TZNAME:CET
DTSTART:20261025T010000
END:STANDARD
END:VTIMEZONE
BEGIN:VEVENT
DTSTART;TZID=Europe/Berlin:20260227T190000
DTEND;TZID=Europe/Berlin:20260227T190000
DTSTAMP:20260419T122206
CREATED:20241103T131645Z
LAST-MODIFIED:20260208T130017Z
UID:1593-1772218800-1772218800@www.gesangverein-tamm.de
SUMMARY:Mitgliederversammlung 2026
DESCRIPTION:
URL:https://www.gesangverein-tamm.de/event/mitgliederversammlung-2026/
LOCATION:VfB-Gaststätte Tamm
ATTACH;FMTTYPE=image/jpeg:https://www.gesangverein-tamm.de/wp-content/uploads/2024/11/Einladung-HV-1-scaled.jpg
END:VEVENT
END:VCALENDAR