BEGIN:VCALENDAR
VERSION:2.0
PRODID:-//Gesangverein Eintracht Tamm 1873 e.V. - ECPv5.0.1//NONSGML v1.0//EN
CALSCALE:GREGORIAN
METHOD:PUBLISH
X-WR-CALNAME:Gesangverein Eintracht Tamm 1873 e.V.
X-ORIGINAL-URL:https://www.gesangverein-tamm.de
X-WR-CALDESC:Veranstaltungen für Gesangverein Eintracht Tamm 1873 e.V.
BEGIN:VTIMEZONE
TZID:Europe/Berlin
BEGIN:DAYLIGHT
TZOFFSETFROM:+0100
TZOFFSETTO:+0200
TZNAME:CEST
DTSTART:20240331T010000
END:DAYLIGHT
BEGIN:STANDARD
TZOFFSETFROM:+0200
TZOFFSETTO:+0100
TZNAME:CET
DTSTART:20241027T010000
END:STANDARD
END:VTIMEZONE
BEGIN:VEVENT
DTSTART;TZID=Europe/Berlin:20240501T110000
DTEND;TZID=Europe/Berlin:20240501T220000
DTSTAMP:20260420T000356
CREATED:20231029T191031Z
LAST-MODIFIED:20240318T083332Z
UID:1297-1714561200-1714600800@www.gesangverein-tamm.de
SUMMARY:Waldfest
DESCRIPTION:
URL:https://www.gesangverein-tamm.de/event/waldfest-4/
ATTACH;FMTTYPE=image/jpeg:https://www.gesangverein-tamm.de/wp-content/uploads/2023/10/IMG-20240318-WA0005.jpg
END:VEVENT
END:VCALENDAR