BEGIN:VCALENDAR
VERSION:2.0
PRODID:-//Gesangverein Eintracht Tamm 1873 e.V. - ECPv5.0.1//NONSGML v1.0//EN
CALSCALE:GREGORIAN
METHOD:PUBLISH
X-WR-CALNAME:Gesangverein Eintracht Tamm 1873 e.V.
X-ORIGINAL-URL:https://www.gesangverein-tamm.de
X-WR-CALDESC:Veranstaltungen für Gesangverein Eintracht Tamm 1873 e.V.
BEGIN:VTIMEZONE
TZID:Europe/Berlin
BEGIN:DAYLIGHT
TZOFFSETFROM:+0100
TZOFFSETTO:+0200
TZNAME:CEST
DTSTART:20240331T010000
END:DAYLIGHT
BEGIN:STANDARD
TZOFFSETFROM:+0200
TZOFFSETTO:+0100
TZNAME:CET
DTSTART:20241027T010000
END:STANDARD
END:VTIMEZONE
BEGIN:VEVENT
DTSTART;TZID=Europe/Berlin:20241216T190000
DTEND;TZID=Europe/Berlin:20241216T235900
DTSTAMP:20260419T174657
CREATED:20231029T191331Z
LAST-MODIFIED:20241103T132339Z
UID:1303-1734375600-1734393540@www.gesangverein-tamm.de
SUMMARY:Weihnachtsfeier für die aktiven SängerInnen
DESCRIPTION:Unsere interne Weihnachtsfeier für alle aktiven Sängerinnen und Sänger findet wieder in der Tammer Kelter statt. \nAufbau und Dekoration ist um 18.30 Uhr. Wir freuen uns auf eure Unterstützung. \nBitte denkt daran Teller\, Besteck und geeignete Gläser selbst mitzubringen. Die Salat- und Gutsle-Liste wird noch rechtzeitig in der Chorprobe verteilt und für Getränke wird wie jedes Jahr gesorgt. \nErneut sind wir für Beiträge jeglicher Art – in Form eines Gedichts\, Liedes\, Flötenspiels oder was auch immer euch einfällt –  sehr dankbar. \nDenn nur dadurch wird unsere Feier schön und stimmungsvoll!\nBitte sprecht uns an! \nAb kommender Woche wird in den Proben eine Teilnehmerliste  ausgelegt. Bitte tragt euch ein. \nWir freuen uns auf eine gemütliche Weihnachtsfeier! \nMona Rosenau\, Terezija Löckle und Michaela Weiß \n
URL:https://www.gesangverein-tamm.de/event/weihnachtsfeier-fuer-die-aktiven-saenger/
LOCATION:Kelter Tamm\, Kirchenplatz 4\, Tamm\, 71732
END:VEVENT
END:VCALENDAR